BEGIN:VCALENDAR
VERSION:2.0
PRODID:-//ExpressionEngine Easy iCalendar plugin//NONSGML v2.0.1//EN
X-WR-TIMEZONE:America/New_York
X-WR-CALNAME:Upcoming Auctions
BEGIN:VEVENT
UID:153133
DTSTAMP:20260423T214500
DTSTART:20260423T214500
DTEND:20260512T200500
SUMMARY:Unique Ephemera & Photos
LOCATION:{location}
DESCRIPTION:A thoughtfully curated collection of antique and vintage eph
 emera and photographs in this upcoming online auction. Featu
 ring a wide array of paper treasures\, including charming pet
  and bird-themed imagery\, this sale offers a glimpse into th
 e past through rare and nostalgic pieces. All items are elig
 ible for economical in-house shipping within the U.S.A. only
 . Lots begin closing at 8pm on Tuesday May 12th\, 2026. Yo
 u'll receive an email or text to select to have your items
  shipped or to pick up.You'll receive a separate invoice fo
 r the shipping charge.
URL:https://www.kjkauctionhub.com/auctions/detail/bw153133
SEQUENCE:1
END:VEVENT
END:VCALENDAR